BEGIN:VCALENDAR
VERSION:2.0
PRODID:-//wp-events-plugin.com//7.2.3.1//EN
BEGIN:VEVENT
UID:20@leanderboatclubofhamilton.com
DTSTART:20240608T140000Z
DTEND:20240608T180000Z
DTSTAMP:20240530T230627Z
URL:https://leanderboatclubofhamilton.com/events/free-try-rowing-day/
SUMMARY:Free Try Rowing Day!
DESCRIPTION:Try Rowing for Free at Leander on June 8th from 10am -2 pm! Pre
 -register on RCA!\n\nClick here to pre-register\n\n
ATTACH;FMTTYPE=image/jpeg:https://leanderboatclubofhamilton.com/wp-content
 /uploads/2023/05/1.png
END:VEVENT
END:VCALENDAR